BEGIN:VCALENDAR
VERSION:2.0
PRODID:-//Centre scolaire du souverain - ECPv5.14.0.4//NONSGML v1.0//EN
CALSCALE:GREGORIAN
METHOD:PUBLISH
X-WR-CALNAME:Centre scolaire du souverain
X-ORIGINAL-URL:https://www.cirquetudes.be
X-WR-CALDESC:Events for Centre scolaire du souverain
REFRESH-INTERVAL;VALUE=DURATION:PT1H
X-Robots-Tag:noindex
X-PUBLISHED-TTL:PT1H
BEGIN:VTIMEZONE
TZID:Europe/Brussels
BEGIN:DAYLIGHT
TZOFFSETFROM:+0100
TZOFFSETTO:+0200
TZNAME:CEST
DTSTART:20260329T010000
END:DAYLIGHT
BEGIN:STANDARD
TZOFFSETFROM:+0200
TZOFFSETTO:+0100
TZNAME:CET
DTSTART:20261025T010000
END:STANDARD
END:VTIMEZONE
BEGIN:VEVENT
DTSTART;TZID=Europe/Brussels:20260406T080000
DTEND;TZID=Europe/Brussels:20260406T170000
DTSTAMP:20260425T144007
CREATED:20220822T155439Z
LAST-MODIFIED:20250707T055503Z
UID:1437-1775462400-1775494800@www.cirquetudes.be
SUMMARY:Lundi de Pâques
DESCRIPTION:
URL:https://www.cirquetudes.be/event/lundi-de-paques/
CATEGORIES:Congés
END:VEVENT
BEGIN:VEVENT
DTSTART;VALUE=DATE:20260427
DTEND;VALUE=DATE:20260509
DTSTAMP:20260425T144007
CREATED:20201228T203052Z
LAST-MODIFIED:20250707T055428Z
UID:238-1777248000-1778284799@www.cirquetudes.be
SUMMARY:Vacances de printemps
DESCRIPTION:
URL:https://www.cirquetudes.be/event/vacances-de-printemps/
CATEGORIES:Congés,Maternelles,Primaires
END:VEVENT
END:VCALENDAR